BEGIN:VCALENDAR
VERSION:2.0
PRODID:-//Bloomington MN Travel &amp; Tourism - Mall of America Hotels - ECPv6.15.20//NONSGML v1.0//EN
CALSCALE:GREGORIAN
METHOD:PUBLISH
X-WR-CALNAME:Bloomington MN Travel &amp; Tourism - Mall of America Hotels
X-ORIGINAL-URL:https://www.bloomingtonmn.org
X-WR-CALDESC:Events for Bloomington MN Travel &amp; Tourism - Mall of America Hotels
REFRESH-INTERVAL;VALUE=DURATION:PT1H
X-Robots-Tag:noindex
X-PUBLISHED-TTL:PT1H
BEGIN:VTIMEZONE
TZID:America/New_York
BEGIN:DAYLIGHT
TZOFFSETFROM:-0500
TZOFFSETTO:-0400
TZNAME:EDT
DTSTART:20240310T070000
END:DAYLIGHT
BEGIN:STANDARD
TZOFFSETFROM:-0400
TZOFFSETTO:-0500
TZNAME:EST
DTSTART:20241103T060000
END:STANDARD
BEGIN:DAYLIGHT
TZOFFSETFROM:-0500
TZOFFSETTO:-0400
TZNAME:EDT
DTSTART:20250309T070000
END:DAYLIGHT
BEGIN:STANDARD
TZOFFSETFROM:-0400
TZOFFSETTO:-0500
TZNAME:EST
DTSTART:20251102T060000
END:STANDARD
BEGIN:DAYLIGHT
TZOFFSETFROM:-0500
TZOFFSETTO:-0400
TZNAME:EDT
DTSTART:20260308T070000
END:DAYLIGHT
BEGIN:STANDARD
TZOFFSETFROM:-0400
TZOFFSETTO:-0500
TZNAME:EST
DTSTART:20261101T060000
END:STANDARD
END:VTIMEZONE
BEGIN:VEVENT
DTSTART;VALUE=DATE:20251128
DTEND;VALUE=DATE:20251222
DTSTAMP:20260425T075719
CREATED:20251205T175825Z
LAST-MODIFIED:20251205T175957Z
UID:10004019-1764288000-1766361599@www.bloomingtonmn.org
SUMMARY:European Christmas Market
DESCRIPTION:Step into holiday tradition at the European Christmas Market in Saint Paul\, held at the historic Union Depot. Wander through festively decorated wooden booths offering handcrafted gifts — from blown-glass ornaments and nutcrackers to wool mittens\, beeswax candles\, and artisan jewelry. While you shop\, warm up with seasonal European favorites like bratwurst\, pierogis\, fresh pretzels and steaming hot Glühwein served in collectible holiday mugs. With live music\, performances\, and a cheerful international holiday spirit\, it’s the perfect place to find unique gifts\, make memories\, and celebrate the season. \nMarket Hours\nMonday – Thursday: Closed\nFriday: 3 – 9 PM\nSaturday: 11 AM – 9 PM\nSunday: 11 AM – 6 PM
URL:https://www.bloomingtonmn.org/things-to-do/events/european-christmas-market-2/2025-11-28/
LOCATION:Union Depot\, 214 4th St. E.\, Saint Paul\, MN\, 55101\, United States
CATEGORIES:Family Friendly,Holiday,Kids & Family,Markets,Seasonal & Holiday
ATTACH;FMTTYPE=image/jpeg:https://www.bloomingtonmn.org/wp-content/uploads/2025/12/IMG_0462-scaled.jpeg
END:VEVENT
END:VCALENDAR