BEGIN:VCALENDAR
VERSION:2.0
PRODID:-//Bloomington MN Travel &amp; Tourism - Mall of America Hotels - ECPv6.15.20//NONSGML v1.0//EN
CALSCALE:GREGORIAN
METHOD:PUBLISH
X-ORIGINAL-URL:https://www.bloomingtonmn.org
X-WR-CALDESC:Events for Bloomington MN Travel &amp; Tourism - Mall of America Hotels
REFRESH-INTERVAL;VALUE=DURATION:PT1H
X-Robots-Tag:noindex
X-PUBLISHED-TTL:PT1H
BEGIN:VTIMEZONE
TZID:America/New_York
BEGIN:DAYLIGHT
TZOFFSETFROM:-0500
TZOFFSETTO:-0400
TZNAME:EDT
DTSTART:20250309T070000
END:DAYLIGHT
BEGIN:STANDARD
TZOFFSETFROM:-0400
TZOFFSETTO:-0500
TZNAME:EST
DTSTART:20251102T060000
END:STANDARD
BEGIN:DAYLIGHT
TZOFFSETFROM:-0500
TZOFFSETTO:-0400
TZNAME:EDT
DTSTART:20260308T070000
END:DAYLIGHT
BEGIN:STANDARD
TZOFFSETFROM:-0400
TZOFFSETTO:-0500
TZNAME:EST
DTSTART:20261101T060000
END:STANDARD
BEGIN:DAYLIGHT
TZOFFSETFROM:-0500
TZOFFSETTO:-0400
TZNAME:EDT
DTSTART:20270314T070000
END:DAYLIGHT
BEGIN:STANDARD
TZOFFSETFROM:-0400
TZOFFSETTO:-0500
TZNAME:EST
DTSTART:20271107T060000
END:STANDARD
END:VTIMEZONE
BEGIN:VEVENT
DTSTART;VALUE=DATE:20260421
DTEND;VALUE=DATE:20260615
DTSTAMP:20260424T042918
CREATED:20250430T195829Z
LAST-MODIFIED:20250430T195829Z
UID:10001522-1776729600-1781481599@www.bloomingtonmn.org
SUMMARY:The Wizard of Oz
DESCRIPTION:Children’s Theatre Company has announced its 2025-2026 season\, wrapping up with The Wizard of Oz. The classic story originally told by L. Frank Baum will be brought to life by the young performers at CTC.
URL:https://www.bloomingtonmn.org/things-to-do/events/the-wizard-of-oz/
LOCATION:Children’s Theatre Company\, 2400 3rd Avenue South\, Minneapolis\, MN\, 55404\, United States
CATEGORIES:Cultural Events,Family Friendly,Music,Performing Arts
ATTACH;FMTTYPE=image/jpeg:https://www.bloomingtonmn.org/wp-content/uploads/2025/04/Wizard-of-Oz.jpg
END:VEVENT
BEGIN:VEVENT
DTSTART;VALUE=DATE:20260425
DTEND;VALUE=DATE:20260524
DTSTAMP:20260424T042918
CREATED:20250217T220204Z
LAST-MODIFIED:20250217T220204Z
UID:10000944-1777075200-1779580799@www.bloomingtonmn.org
SUMMARY:Harry Potter and the Cursed Child
DESCRIPTION:Hennepin Arts’ 2025-2026 season is a year of shows that will excite\, inspire\, and transport. You’ll see Harry Potter in a whole new light in Harry Potter and the Cursed Child\, coming to the Orpheum Theatre in April.
URL:https://www.bloomingtonmn.org/things-to-do/events/harry-potter-and-the-cursed-child/
LOCATION:Orpheum Theatre\, 910 Hennepin Ave.\, Minneapolis\, MN\, 55403\, United States
CATEGORIES:Cultural Events,Music,Performing Arts
ATTACH;FMTTYPE=image/jpeg:https://www.bloomingtonmn.org/wp-content/uploads/2025/02/Harry-Potter-and-the-Cursed-Child.jpg
END:VEVENT
BEGIN:VEVENT
DTSTART;VALUE=DATE:20260602
DTEND;VALUE=DATE:20260608
DTSTAMP:20260424T042918
CREATED:20250217T220412Z
LAST-MODIFIED:20250217T220413Z
UID:10000945-1780358400-1780876799@www.bloomingtonmn.org
SUMMARY:The Great Gatsby
DESCRIPTION:Hennepin Arts’ 2025-2026 season is a year of shows that will excite\, inspire\, and transport. The glamour and excitement in F. Scott Fitzgerald’s classic American novel The Great Gatsby is brought to life in this Broadway smash hit musical.
URL:https://www.bloomingtonmn.org/things-to-do/events/the-great-gatsby/
LOCATION:Orpheum Theatre\, 910 Hennepin Ave.\, Minneapolis\, MN\, 55403\, United States
CATEGORIES:Cultural Events,Music,Performing Arts
ATTACH;FMTTYPE=image/webp:https://www.bloomingtonmn.org/wp-content/uploads/2025/02/Photo_6_-_The_Broadway_cast_of_The_Great_Gatsby__c__Matthew_Murphy_and_Evan_Zimmerman_Large.webp
END:VEVENT
BEGIN:VEVENT
DTSTART;VALUE=DATE:20260610
DTEND;VALUE=DATE:20260615
DTSTAMP:20260424T042918
CREATED:20250430T210310Z
LAST-MODIFIED:20250430T210310Z
UID:10001533-1781049600-1781481599@www.bloomingtonmn.org
SUMMARY:Spamalot
DESCRIPTION:The Tony Award-winning musical Spamalot returns with its outrageous blend of comedy\, song\, and medieval mayhem. Lovingly adapted from Monty Python and the Holy Grail\, this hit show features flying cows\, killer rabbits\, and laugh-out-loud songs like “Always Look on the Bright Side of Life.”
URL:https://www.bloomingtonmn.org/things-to-do/events/spamalot/
LOCATION:Ordway Center for the Performing Arts\, 345 Washington Street\, Saint Paul\, MN\, 55102\, United States
CATEGORIES:Cultural Events,Music,Performing Arts
ATTACH;FMTTYPE=image/webp:https://www.bloomingtonmn.org/wp-content/uploads/2025/04/The-Broadway-Cast-of-SPAMALOT_webopt-scaled.webp
END:VEVENT
BEGIN:VEVENT
DTSTART;VALUE=DATE:20260617
DTEND;VALUE=DATE:20260629
DTSTAMP:20260424T042918
CREATED:20250430T210535Z
LAST-MODIFIED:20250430T210535Z
UID:10001534-1781654400-1782691199@www.bloomingtonmn.org
SUMMARY:SIX
DESCRIPTION:The hit musical SIX turns the six wives of Henry VIII into pop stars\, remixing history into a fierce and fun celebration of girl power. Winner of 23 awards including the Tony for Best Original Score\, this global sensation is bold\, empowering\, and royally entertaining.
URL:https://www.bloomingtonmn.org/things-to-do/events/six/
LOCATION:Ordway Center for the Performing Arts\, 345 Washington Street\, Saint Paul\, MN\, 55102\, United States
CATEGORIES:Cultural Events,Music,Performing Arts
ATTACH;FMTTYPE=image/webp:https://www.bloomingtonmn.org/wp-content/uploads/2025/04/2__The_North_American_Tour_Boleyn_Company_of_SIX._Photo_by_Joan_Marcus__0694r3_-scaled.webp
END:VEVENT
BEGIN:VEVENT
DTSTART;VALUE=DATE:20260708
DTEND;VALUE=DATE:20260810
DTSTAMP:20260424T042919
CREATED:20250217T220550Z
LAST-MODIFIED:20250217T220550Z
UID:10000946-1783468800-1786319999@www.bloomingtonmn.org
SUMMARY:Wicked
DESCRIPTION:Hennepin Arts’ 2025-2026 season is a year of shows that will excite\, inspire\, and transport. You’ve seen the incredible Wicked movie – now see the on-stage production\, the last show of the season at the Orpheum.
URL:https://www.bloomingtonmn.org/things-to-do/events/wicked/
LOCATION:Orpheum Theatre\, 910 Hennepin Ave.\, Minneapolis\, MN\, 55403\, United States
CATEGORIES:Cultural Events,Music,Performing Arts
ATTACH;FMTTYPE=image/jpeg:https://www.bloomingtonmn.org/wp-content/uploads/2025/02/Wicked.jpg
END:VEVENT
END:VCALENDAR