BEGIN:VCALENDAR
VERSION:2.0
PRODID:-//Bloomington MN Travel &amp; Tourism - Mall of America Hotels - ECPv6.15.20//NONSGML v1.0//EN
CALSCALE:GREGORIAN
METHOD:PUBLISH
X-WR-CALNAME:Bloomington MN Travel &amp; Tourism - Mall of America Hotels
X-ORIGINAL-URL:https://www.bloomingtonmn.org
X-WR-CALDESC:Events for Bloomington MN Travel &amp; Tourism - Mall of America Hotels
REFRESH-INTERVAL;VALUE=DURATION:PT1H
X-Robots-Tag:noindex
X-PUBLISHED-TTL:PT1H
BEGIN:VTIMEZONE
TZID:America/New_York
BEGIN:DAYLIGHT
TZOFFSETFROM:-0500
TZOFFSETTO:-0400
TZNAME:EDT
DTSTART:20240310T070000
END:DAYLIGHT
BEGIN:STANDARD
TZOFFSETFROM:-0400
TZOFFSETTO:-0500
TZNAME:EST
DTSTART:20241103T060000
END:STANDARD
BEGIN:DAYLIGHT
TZOFFSETFROM:-0500
TZOFFSETTO:-0400
TZNAME:EDT
DTSTART:20250309T070000
END:DAYLIGHT
BEGIN:STANDARD
TZOFFSETFROM:-0400
TZOFFSETTO:-0500
TZNAME:EST
DTSTART:20251102T060000
END:STANDARD
BEGIN:DAYLIGHT
TZOFFSETFROM:-0500
TZOFFSETTO:-0400
TZNAME:EDT
DTSTART:20260308T070000
END:DAYLIGHT
BEGIN:STANDARD
TZOFFSETFROM:-0400
TZOFFSETTO:-0500
TZNAME:EST
DTSTART:20261101T060000
END:STANDARD
BEGIN:DAYLIGHT
TZOFFSETFROM:-0500
TZOFFSETTO:-0400
TZNAME:EDT
DTSTART:20270314T070000
END:DAYLIGHT
BEGIN:STANDARD
TZOFFSETFROM:-0400
TZOFFSETTO:-0500
TZNAME:EST
DTSTART:20271107T060000
END:STANDARD
END:VTIMEZONE
BEGIN:VEVENT
DTSTART;VALUE=DATE:20260407
DTEND;VALUE=DATE:20260413
DTSTAMP:20260424T055600
CREATED:20250217T220029Z
LAST-MODIFIED:20250217T220029Z
UID:10000943-1775520000-1776038399@www.bloomingtonmn.org
SUMMARY:Suffs
DESCRIPTION:Hennepin Arts’ 2025-2026 season is a year of shows that will excite\, inspire\, and transport. The brilliant and passionate American women who fought for the right to vote are brought to life in the acclaimed Tony Award-winning musical Suffs.
URL:https://www.bloomingtonmn.org/things-to-do/events/suffs/
LOCATION:Orpheum Theatre\, 910 Hennepin Ave.\, Minneapolis\, MN\, 55403\, United States
CATEGORIES:Cultural Events,Music,Performing Arts
ATTACH;FMTTYPE=image/webp:https://www.bloomingtonmn.org/wp-content/uploads/2025/02/1_-_Jenn_Colella_as_Carrie_Chapman_Catt_and_Suffs_Broadway_Company_Large.webp
END:VEVENT
BEGIN:VEVENT
DTSTART;VALUE=DATE:20260303
DTEND;VALUE=DATE:20260406
DTSTAMP:20260424T055600
CREATED:20250430T195620Z
LAST-MODIFIED:20260227T212651Z
UID:10001521-1772496000-1775433599@www.bloomingtonmn.org
SUMMARY:Dinosaur World Live
DESCRIPTION:Children’s Theatre Company has announced its 2025-2026 season\, including Dinosaur World Live. Get up close with roaring dinosaurs in this thrilling adventure led by a young paleontologist at CTC! From T-rex encounters to triceratops sneezes\, it’s a wildly fun experience that’s wowed families around the world! \nDinosaur World Live
URL:https://www.bloomingtonmn.org/things-to-do/events/dinosaur-world-live/
LOCATION:Children’s Theatre Company\, 2400 3rd Avenue South\, Minneapolis\, MN\, 55404\, United States
CATEGORIES:Cultural Events,Family Friendly,Music,Performing Arts
ATTACH;FMTTYPE=image/jpeg:https://www.bloomingtonmn.org/wp-content/uploads/2026/02/dinosaur-world-childrens-theatre.jpg
END:VEVENT
BEGIN:VEVENT
DTSTART;VALUE=DATE:20260213
DTEND;VALUE=DATE:20260406
DTSTAMP:20260424T055600
CREATED:20250430T195209Z
LAST-MODIFIED:20250430T195209Z
UID:10001520-1770940800-1775433599@www.bloomingtonmn.org
SUMMARY:Forts!
DESCRIPTION:Children’s Theatre Company has announced its 2025-2026 season\, including Forts: Build Your Own Adventure. During this interactive experience\, audiences are invited to use all kinds of building materials to make their own forts!
URL:https://www.bloomingtonmn.org/things-to-do/events/forts/
LOCATION:Children’s Theatre Company\, 2400 3rd Avenue South\, Minneapolis\, MN\, 55404\, United States
CATEGORIES:Cultural Events,Family Friendly,Music,Performing Arts
ATTACH;FMTTYPE=image/jpeg:https://www.bloomingtonmn.org/wp-content/uploads/2025/04/Forts-with-bug-2.jpg
END:VEVENT
BEGIN:VEVENT
DTSTART;TZID=America/New_York:20250808T170000
DTEND;TZID=America/New_York:20250808T220000
DTSTAMP:20260424T055600
CREATED:20250501T161241Z
LAST-MODIFIED:20250501T161241Z
UID:10001551-1754672400-1754690400@www.bloomingtonmn.org
SUMMARY:Wild Nights at the Zoo
DESCRIPTION:Conservation rocks at the Minnesota Zoo! Enjoy an adults-only night of music\, food\, drinks\, and access to your favorite spots at the zoo. Headline bands perform at 8 P.M. and 9:15 P.M.\, and animal habitats are open from 5-8 P.M. for visitors to explore. Plus\, get up close with friendly llamas at Llama Trek\, take a free spin on the Conservation Carousel\, and groove at the Silent Dance Party in Discovery Bay.
URL:https://www.bloomingtonmn.org/things-to-do/events/wild-nights-at-the-zoo/2025-08-08/
LOCATION:Minnesota Zoo\, 13000 Zoo Boulevard\, Apple Valley\, MN\, 55124\, United States
CATEGORIES:Cultural Events,Music,Outdoor Activities,Performing Arts,Zoos and Theme Parks
ATTACH;FMTTYPE=image/jpeg:https://www.bloomingtonmn.org/wp-content/uploads/2025/05/wildnightsheader1.jpg
END:VEVENT
BEGIN:VEVENT
DTSTART;TZID=America/New_York:20250725T170000
DTEND;TZID=America/New_York:20250725T220000
DTSTAMP:20260424T055601
CREATED:20250501T161241Z
LAST-MODIFIED:20250501T161241Z
UID:10001550-1753462800-1753480800@www.bloomingtonmn.org
SUMMARY:Wild Nights at the Zoo
DESCRIPTION:Conservation rocks at the Minnesota Zoo! Enjoy an adults-only night of music\, food\, drinks\, and access to your favorite spots at the zoo. Headline bands perform at 8 P.M. and 9:15 P.M.\, and animal habitats are open from 5-8 P.M. for visitors to explore. Plus\, get up close with friendly llamas at Llama Trek\, take a free spin on the Conservation Carousel\, and groove at the Silent Dance Party in Discovery Bay.
URL:https://www.bloomingtonmn.org/things-to-do/events/wild-nights-at-the-zoo/2025-07-25/
LOCATION:Minnesota Zoo\, 13000 Zoo Boulevard\, Apple Valley\, MN\, 55124\, United States
CATEGORIES:Cultural Events,Music,Outdoor Activities,Performing Arts,Zoos and Theme Parks
ATTACH;FMTTYPE=image/jpeg:https://www.bloomingtonmn.org/wp-content/uploads/2025/05/wildnightsheader1.jpg
END:VEVENT
BEGIN:VEVENT
DTSTART;TZID=America/New_York:20250711T170000
DTEND;TZID=America/New_York:20250711T220000
DTSTAMP:20260424T055601
CREATED:20250501T161241Z
LAST-MODIFIED:20250501T161241Z
UID:10001549-1752253200-1752271200@www.bloomingtonmn.org
SUMMARY:Wild Nights at the Zoo
DESCRIPTION:Conservation rocks at the Minnesota Zoo! Enjoy an adults-only night of music\, food\, drinks\, and access to your favorite spots at the zoo. Headline bands perform at 8 P.M. and 9:15 P.M.\, and animal habitats are open from 5-8 P.M. for visitors to explore. Plus\, get up close with friendly llamas at Llama Trek\, take a free spin on the Conservation Carousel\, and groove at the Silent Dance Party in Discovery Bay.
URL:https://www.bloomingtonmn.org/things-to-do/events/wild-nights-at-the-zoo/2025-07-11/
LOCATION:Minnesota Zoo\, 13000 Zoo Boulevard\, Apple Valley\, MN\, 55124\, United States
CATEGORIES:Cultural Events,Music,Outdoor Activities,Performing Arts,Zoos and Theme Parks
ATTACH;FMTTYPE=image/jpeg:https://www.bloomingtonmn.org/wp-content/uploads/2025/05/wildnightsheader1.jpg
END:VEVENT
BEGIN:VEVENT
DTSTART;TZID=America/New_York:20250627T170000
DTEND;TZID=America/New_York:20250627T220000
DTSTAMP:20260424T055601
CREATED:20250501T161241Z
LAST-MODIFIED:20250501T161241Z
UID:10001548-1751043600-1751061600@www.bloomingtonmn.org
SUMMARY:Wild Nights at the Zoo
DESCRIPTION:Conservation rocks at the Minnesota Zoo! Enjoy an adults-only night of music\, food\, drinks\, and access to your favorite spots at the zoo. Headline bands perform at 8 P.M. and 9:15 P.M.\, and animal habitats are open from 5-8 P.M. for visitors to explore. Plus\, get up close with friendly llamas at Llama Trek\, take a free spin on the Conservation Carousel\, and groove at the Silent Dance Party in Discovery Bay.
URL:https://www.bloomingtonmn.org/things-to-do/events/wild-nights-at-the-zoo/2025-06-27/
LOCATION:Minnesota Zoo\, 13000 Zoo Boulevard\, Apple Valley\, MN\, 55124\, United States
CATEGORIES:Cultural Events,Music,Outdoor Activities,Performing Arts,Zoos and Theme Parks
ATTACH;FMTTYPE=image/jpeg:https://www.bloomingtonmn.org/wp-content/uploads/2025/05/wildnightsheader1.jpg
END:VEVENT
BEGIN:VEVENT
DTSTART;TZID=America/New_York:20250614T190000
DTEND;TZID=America/New_York:20250614T210000
DTSTAMP:20260424T055601
CREATED:20250220T194307Z
LAST-MODIFIED:20250220T194307Z
UID:10000956-1749927600-1749934800@www.bloomingtonmn.org
SUMMARY:Discover Dance: 2025 Showcase
DESCRIPTION:Ballet\, hip-hop\, jazz\, and modern styles of dance will all be showcased at this unique evening of performances! Celebrate and learn more about your new favorite kind of dance at Discover Dance.
URL:https://www.bloomingtonmn.org/things-to-do/events/discover-dance-2025-showcase/2025-06-14/
LOCATION:Bloomington Center for the Arts\, 1800 West Old Shakopee Road\, Bloomington\, MN\, 55431\, United States
CATEGORIES:Cultural Events,Family Friendly,Music,Performing Arts
ATTACH;FMTTYPE=image/png:https://www.bloomingtonmn.org/wp-content/uploads/2025/02/Discover-Dance.png
END:VEVENT
BEGIN:VEVENT
DTSTART;TZID=America/New_York:20250613T190000
DTEND;TZID=America/New_York:20250613T210000
DTSTAMP:20260424T055601
CREATED:20250220T194307Z
LAST-MODIFIED:20250220T194307Z
UID:10000955-1749841200-1749848400@www.bloomingtonmn.org
SUMMARY:Discover Dance: 2025 Showcase
DESCRIPTION:Ballet\, hip-hop\, jazz\, and modern styles of dance will all be showcased at this unique evening of performances! Celebrate and learn more about your new favorite kind of dance at Discover Dance.
URL:https://www.bloomingtonmn.org/things-to-do/events/discover-dance-2025-showcase/2025-06-13/
LOCATION:Bloomington Center for the Arts\, 1800 West Old Shakopee Road\, Bloomington\, MN\, 55431\, United States
CATEGORIES:Cultural Events,Family Friendly,Music,Performing Arts
ATTACH;FMTTYPE=image/png:https://www.bloomingtonmn.org/wp-content/uploads/2025/02/Discover-Dance.png
END:VEVENT
BEGIN:VEVENT
DTSTART;TZID=America/New_York:20250613T170000
DTEND;TZID=America/New_York:20250613T220000
DTSTAMP:20260424T055601
CREATED:20250501T161241Z
LAST-MODIFIED:20250501T161241Z
UID:10001547-1749834000-1749852000@www.bloomingtonmn.org
SUMMARY:Wild Nights at the Zoo
DESCRIPTION:Conservation rocks at the Minnesota Zoo! Enjoy an adults-only night of music\, food\, drinks\, and access to your favorite spots at the zoo. Headline bands perform at 8 P.M. and 9:15 P.M.\, and animal habitats are open from 5-8 P.M. for visitors to explore. Plus\, get up close with friendly llamas at Llama Trek\, take a free spin on the Conservation Carousel\, and groove at the Silent Dance Party in Discovery Bay.
URL:https://www.bloomingtonmn.org/things-to-do/events/wild-nights-at-the-zoo/2025-06-13/
LOCATION:Minnesota Zoo\, 13000 Zoo Boulevard\, Apple Valley\, MN\, 55124\, United States
CATEGORIES:Cultural Events,Music,Outdoor Activities,Performing Arts,Zoos and Theme Parks
ATTACH;FMTTYPE=image/jpeg:https://www.bloomingtonmn.org/wp-content/uploads/2025/05/wildnightsheader1.jpg
END:VEVENT
BEGIN:VEVENT
DTSTART;TZID=America/New_York:20250503T200000
DTEND;TZID=America/New_York:20250503T200000
DTSTAMP:20260424T055601
CREATED:20250303T175526Z
LAST-MODIFIED:20250303T175526Z
UID:10001426-1746302400-1746302400@www.bloomingtonmn.org
SUMMARY:Martin Lawrence
DESCRIPTION:Popular comic and actor Martin Lawrence will make a stop at Mystic Lake Casino during his “Ya’ll Know What It Is!” tour. Lawrence is known for hit movies like “Big Momma’s House” and the “Bad Boys” franchise along with his hilarious standup act.
URL:https://www.bloomingtonmn.org/things-to-do/events/martin-lawrence/2025-05-03/
LOCATION:Mystic Lake Casino Hotel\, 2400 Mystic Lake Blvd.\, Prior Lake\, MN\, 55372\, United States
CATEGORIES:Cultural Events,Performing Arts
ATTACH;FMTTYPE=image/jpeg:https://www.bloomingtonmn.org/wp-content/uploads/2025/03/13742-ent-martinlawrence-aprilfy25-web-1600x700-1.jpeg
END:VEVENT
BEGIN:VEVENT
DTSTART;TZID=America/New_York:20250502T200000
DTEND;TZID=America/New_York:20250502T200000
DTSTAMP:20260424T055601
CREATED:20250303T175526Z
LAST-MODIFIED:20250303T175526Z
UID:10001425-1746216000-1746216000@www.bloomingtonmn.org
SUMMARY:Martin Lawrence
DESCRIPTION:Popular comic and actor Martin Lawrence will make a stop at Mystic Lake Casino during his “Ya’ll Know What It Is!” tour. Lawrence is known for hit movies like “Big Momma’s House” and the “Bad Boys” franchise along with his hilarious standup act.
URL:https://www.bloomingtonmn.org/things-to-do/events/martin-lawrence/2025-05-02/
LOCATION:Mystic Lake Casino Hotel\, 2400 Mystic Lake Blvd.\, Prior Lake\, MN\, 55372\, United States
CATEGORIES:Cultural Events,Performing Arts
ATTACH;FMTTYPE=image/jpeg:https://www.bloomingtonmn.org/wp-content/uploads/2025/03/13742-ent-martinlawrence-aprilfy25-web-1600x700-1.jpeg
END:VEVENT
BEGIN:VEVENT
DTSTART;TZID=America/New_York:20250317T193000
DTEND;TZID=America/New_York:20250317T193000
DTSTAMP:20260424T055601
CREATED:20241203T214321Z
LAST-MODIFIED:20241203T214321Z
UID:10000609-1742239800-1742239800@www.bloomingtonmn.org
SUMMARY:Kickin' It Irish
DESCRIPTION:An annual St. Patrick’s Day tradition at the Chanhassen Dinner Theatres\, Kickin’ It Irish features jaw-dropping talent by the O’Shea Irish Dancers. You’ll witness traditional and contemporary Irish step dancing\, along with music performed on traditional Irish instruments.
URL:https://www.bloomingtonmn.org/things-to-do/events/kickin-it-irish/2025-03-17/
LOCATION:Chanhassen Dinner Theatres\, 501 West 78th Street\, Chanhassen\, MN\, 55317\, United States
CATEGORIES:Cultural Events,Family Friendly,Music,Performing Arts
ATTACH;FMTTYPE=image/jpeg:https://www.bloomingtonmn.org/wp-content/uploads/2024/12/DSC_0214sm-topaz-1500.jpg
END:VEVENT
BEGIN:VEVENT
DTSTART;TZID=America/New_York:20250310T193000
DTEND;TZID=America/New_York:20250310T193000
DTSTAMP:20260424T055601
CREATED:20241203T214321Z
LAST-MODIFIED:20241203T214321Z
UID:10000608-1741635000-1741635000@www.bloomingtonmn.org
SUMMARY:Kickin' It Irish
DESCRIPTION:An annual St. Patrick’s Day tradition at the Chanhassen Dinner Theatres\, Kickin’ It Irish features jaw-dropping talent by the O’Shea Irish Dancers. You’ll witness traditional and contemporary Irish step dancing\, along with music performed on traditional Irish instruments.
URL:https://www.bloomingtonmn.org/things-to-do/events/kickin-it-irish/2025-03-10/
LOCATION:Chanhassen Dinner Theatres\, 501 West 78th Street\, Chanhassen\, MN\, 55317\, United States
CATEGORIES:Cultural Events,Family Friendly,Music,Performing Arts
ATTACH;FMTTYPE=image/jpeg:https://www.bloomingtonmn.org/wp-content/uploads/2024/12/DSC_0214sm-topaz-1500.jpg
END:VEVENT
BEGIN:VEVENT
DTSTART;TZID=America/New_York:20250209T100000
DTEND;TZID=America/New_York:20250209T160000
DTSTAMP:20260424T055601
CREATED:20241203T204221Z
LAST-MODIFIED:20241203T204221Z
UID:10000602-1739095200-1739116800@www.bloomingtonmn.org
SUMMARY:Art Shanty Projects
DESCRIPTION:The Art Shanty Projects is a unique and beloved annual winter event held on frozen Lake Harriet in Minneapolis. It transforms an icy landscape into an artistic village\, where artists and creators build whimsical\, interactive shanties (ice houses) that serve as miniature art installations and performance spaces.
URL:https://www.bloomingtonmn.org/things-to-do/events/art-shanty-projects/2025-02-09/
LOCATION:Lake Harriet\, Minneapolis\, MN\, 55419\, United States
CATEGORIES:Art and Exhibitions,Cultural Events,Family Friendly,Outdoor Activities,Performing Arts
ATTACH;FMTTYPE=image/jpeg:https://www.bloomingtonmn.org/wp-content/uploads/2024/12/Art-Shanty-Projects.jpg
END:VEVENT
BEGIN:VEVENT
DTSTART;TZID=America/New_York:20250208T100000
DTEND;TZID=America/New_York:20250208T160000
DTSTAMP:20260424T055601
CREATED:20241203T204221Z
LAST-MODIFIED:20241203T204221Z
UID:10000601-1739008800-1739030400@www.bloomingtonmn.org
SUMMARY:Art Shanty Projects
DESCRIPTION:The Art Shanty Projects is a unique and beloved annual winter event held on frozen Lake Harriet in Minneapolis. It transforms an icy landscape into an artistic village\, where artists and creators build whimsical\, interactive shanties (ice houses) that serve as miniature art installations and performance spaces.
URL:https://www.bloomingtonmn.org/things-to-do/events/art-shanty-projects/2025-02-08/
LOCATION:Lake Harriet\, Minneapolis\, MN\, 55419\, United States
CATEGORIES:Art and Exhibitions,Cultural Events,Family Friendly,Outdoor Activities,Performing Arts
ATTACH;FMTTYPE=image/jpeg:https://www.bloomingtonmn.org/wp-content/uploads/2024/12/Art-Shanty-Projects.jpg
END:VEVENT
BEGIN:VEVENT
DTSTART;TZID=America/New_York:20250202T123000
DTEND;TZID=America/New_York:20250202T173000
DTSTAMP:20260424T055601
CREATED:20250107T210915Z
LAST-MODIFIED:20250107T210915Z
UID:10000690-1738499400-1738517400@www.bloomingtonmn.org
SUMMARY:Lunar New Year Celebration
DESCRIPTION:Celebrate Lunar New Year and the beginning of the year of the snake at Mall of America. The annual celebration includes artistic performances\, cultural presentations\, and hands-on activities for Mall visitors.
URL:https://www.bloomingtonmn.org/things-to-do/events/lunar-new-year-celebration-2/2025-02-02/
LOCATION:Mall of America\, 60 E. Broadway\, Bloomington\, MN\, 55425\, United States
CATEGORIES:Cultural Events,Fairs and Festivals,Family Friendly,Holiday,Music,Performing Arts
ATTACH;FMTTYPE=image/jpeg:https://www.bloomingtonmn.org/wp-content/uploads/2025/01/LunarNY_2025_Event_Landing_V1.jpg
END:VEVENT
BEGIN:VEVENT
DTSTART;TZID=America/New_York:20250202T100000
DTEND;TZID=America/New_York:20250202T160000
DTSTAMP:20260424T055601
CREATED:20241203T204221Z
LAST-MODIFIED:20241203T204221Z
UID:10000600-1738490400-1738512000@www.bloomingtonmn.org
SUMMARY:Art Shanty Projects
DESCRIPTION:The Art Shanty Projects is a unique and beloved annual winter event held on frozen Lake Harriet in Minneapolis. It transforms an icy landscape into an artistic village\, where artists and creators build whimsical\, interactive shanties (ice houses) that serve as miniature art installations and performance spaces.
URL:https://www.bloomingtonmn.org/things-to-do/events/art-shanty-projects/2025-02-02/
LOCATION:Lake Harriet\, Minneapolis\, MN\, 55419\, United States
CATEGORIES:Art and Exhibitions,Cultural Events,Family Friendly,Outdoor Activities,Performing Arts
ATTACH;FMTTYPE=image/jpeg:https://www.bloomingtonmn.org/wp-content/uploads/2024/12/Art-Shanty-Projects.jpg
END:VEVENT
BEGIN:VEVENT
DTSTART;TZID=America/New_York:20250201T123000
DTEND;TZID=America/New_York:20250201T173000
DTSTAMP:20260424T055601
CREATED:20250107T210915Z
LAST-MODIFIED:20250107T210915Z
UID:10000689-1738413000-1738431000@www.bloomingtonmn.org
SUMMARY:Lunar New Year Celebration
DESCRIPTION:Celebrate Lunar New Year and the beginning of the year of the snake at Mall of America. The annual celebration includes artistic performances\, cultural presentations\, and hands-on activities for Mall visitors.
URL:https://www.bloomingtonmn.org/things-to-do/events/lunar-new-year-celebration-2/2025-02-01/
LOCATION:Mall of America\, 60 E. Broadway\, Bloomington\, MN\, 55425\, United States
CATEGORIES:Cultural Events,Fairs and Festivals,Family Friendly,Holiday,Music,Performing Arts
ATTACH;FMTTYPE=image/jpeg:https://www.bloomingtonmn.org/wp-content/uploads/2025/01/LunarNY_2025_Event_Landing_V1.jpg
END:VEVENT
BEGIN:VEVENT
DTSTART;TZID=America/New_York:20250201T100000
DTEND;TZID=America/New_York:20250201T160000
DTSTAMP:20260424T055601
CREATED:20241203T204221Z
LAST-MODIFIED:20241203T204221Z
UID:10000599-1738404000-1738425600@www.bloomingtonmn.org
SUMMARY:Art Shanty Projects
DESCRIPTION:The Art Shanty Projects is a unique and beloved annual winter event held on frozen Lake Harriet in Minneapolis. It transforms an icy landscape into an artistic village\, where artists and creators build whimsical\, interactive shanties (ice houses) that serve as miniature art installations and performance spaces.
URL:https://www.bloomingtonmn.org/things-to-do/events/art-shanty-projects/2025-02-01/
LOCATION:Lake Harriet\, Minneapolis\, MN\, 55419\, United States
CATEGORIES:Art and Exhibitions,Cultural Events,Family Friendly,Outdoor Activities,Performing Arts
ATTACH;FMTTYPE=image/jpeg:https://www.bloomingtonmn.org/wp-content/uploads/2024/12/Art-Shanty-Projects.jpg
END:VEVENT
BEGIN:VEVENT
DTSTART;TZID=America/New_York:20250126T100000
DTEND;TZID=America/New_York:20250126T160000
DTSTAMP:20260424T055601
CREATED:20241203T204221Z
LAST-MODIFIED:20241203T204221Z
UID:10000598-1737885600-1737907200@www.bloomingtonmn.org
SUMMARY:Art Shanty Projects
DESCRIPTION:The Art Shanty Projects is a unique and beloved annual winter event held on frozen Lake Harriet in Minneapolis. It transforms an icy landscape into an artistic village\, where artists and creators build whimsical\, interactive shanties (ice houses) that serve as miniature art installations and performance spaces.
URL:https://www.bloomingtonmn.org/things-to-do/events/art-shanty-projects/2025-01-26/
LOCATION:Lake Harriet\, Minneapolis\, MN\, 55419\, United States
CATEGORIES:Art and Exhibitions,Cultural Events,Family Friendly,Outdoor Activities,Performing Arts
ATTACH;FMTTYPE=image/jpeg:https://www.bloomingtonmn.org/wp-content/uploads/2024/12/Art-Shanty-Projects.jpg
END:VEVENT
BEGIN:VEVENT
DTSTART;TZID=America/New_York:20250125T100000
DTEND;TZID=America/New_York:20250125T160000
DTSTAMP:20260424T055601
CREATED:20241203T204221Z
LAST-MODIFIED:20241203T204221Z
UID:10000597-1737799200-1737820800@www.bloomingtonmn.org
SUMMARY:Art Shanty Projects
DESCRIPTION:The Art Shanty Projects is a unique and beloved annual winter event held on frozen Lake Harriet in Minneapolis. It transforms an icy landscape into an artistic village\, where artists and creators build whimsical\, interactive shanties (ice houses) that serve as miniature art installations and performance spaces.
URL:https://www.bloomingtonmn.org/things-to-do/events/art-shanty-projects/2025-01-25/
LOCATION:Lake Harriet\, Minneapolis\, MN\, 55419\, United States
CATEGORIES:Art and Exhibitions,Cultural Events,Family Friendly,Outdoor Activities,Performing Arts
ATTACH;FMTTYPE=image/jpeg:https://www.bloomingtonmn.org/wp-content/uploads/2024/12/Art-Shanty-Projects.jpg
END:VEVENT
BEGIN:VEVENT
DTSTART;TZID=America/New_York:20250119T100000
DTEND;TZID=America/New_York:20250119T160000
DTSTAMP:20260424T055601
CREATED:20241203T204221Z
LAST-MODIFIED:20241203T204221Z
UID:10000596-1737280800-1737302400@www.bloomingtonmn.org
SUMMARY:Art Shanty Projects
DESCRIPTION:The Art Shanty Projects is a unique and beloved annual winter event held on frozen Lake Harriet in Minneapolis. It transforms an icy landscape into an artistic village\, where artists and creators build whimsical\, interactive shanties (ice houses) that serve as miniature art installations and performance spaces.
URL:https://www.bloomingtonmn.org/things-to-do/events/art-shanty-projects/2025-01-19/
LOCATION:Lake Harriet\, Minneapolis\, MN\, 55419\, United States
CATEGORIES:Art and Exhibitions,Cultural Events,Family Friendly,Outdoor Activities,Performing Arts
ATTACH;FMTTYPE=image/jpeg:https://www.bloomingtonmn.org/wp-content/uploads/2024/12/Art-Shanty-Projects.jpg
END:VEVENT
BEGIN:VEVENT
DTSTART;TZID=America/New_York:20250118T100000
DTEND;TZID=America/New_York:20250118T160000
DTSTAMP:20260424T055601
CREATED:20241203T204221Z
LAST-MODIFIED:20241203T204221Z
UID:10000595-1737194400-1737216000@www.bloomingtonmn.org
SUMMARY:Art Shanty Projects
DESCRIPTION:The Art Shanty Projects is a unique and beloved annual winter event held on frozen Lake Harriet in Minneapolis. It transforms an icy landscape into an artistic village\, where artists and creators build whimsical\, interactive shanties (ice houses) that serve as miniature art installations and performance spaces.
URL:https://www.bloomingtonmn.org/things-to-do/events/art-shanty-projects/2025-01-18/
LOCATION:Lake Harriet\, Minneapolis\, MN\, 55419\, United States
CATEGORIES:Art and Exhibitions,Cultural Events,Family Friendly,Outdoor Activities,Performing Arts
ATTACH;FMTTYPE=image/jpeg:https://www.bloomingtonmn.org/wp-content/uploads/2024/12/Art-Shanty-Projects.jpg
END:VEVENT
END:VCALENDAR